BEGIN:VCALENDAR
VERSION:2.0
PRODID:-//ChamberMaster//Event Calendar 2.0//EN
METHOD:PUBLISH
X-PUBLISHED-TTL:P1H
REFRESH-INTERVAL:P1H
CALSCALE:GREGORIAN
BEGIN:VTIMEZONE
TZID:America/New_York
BEGIN:DAYLIGHT
RRULE:FREQ=YEARLY;BYMONTH=3;BYDAY=2SU
DTSTART:20070101T000000
TZOFFSETFROM:-0500
TZOFFSETTO:-0400
TZNAME:Eastern Daylight Time
END:DAYLIGHT
BEGIN:STANDARD
RRULE:FREQ=YEARLY;BYMONTH=11;BYDAY=1SU
DTSTART:20070101T000000
TZOFFSETFROM:-0400
TZOFFSETTO:-0500
TZNAME:Eastern Standard Time
END:STANDARD
END:VTIMEZONE
BEGIN:VEVENT
DTSTART;TZID=America/New_York:20250128T093000
DTEND;TZID=America/New_York:20250128T123000
X-MICROSOFT-CDO-ALLDAYEVENT:FALSE
SUMMARY:Code of Ethics
DESCRIPTION:3 CEUS New Hampshire and Maine. 2 CEUS Massachusetts.This course meets the NAR Ethics Requirement.In person class at the SBR office.
X-ALT-DESC;FMTTYPE=text/html:<!DOCTYPE html><html><head><title></title></head><body aria-disabled="false"><p>3 CEUS New Hampshire and Maine. 2 CEUS Massachusetts.</p><p>This course meets the NAR Ethics Requirement.</p><p>In person class at the SBR office.</p></body></html>
LOCATION:210 Commerce Way Ste 200 Portsmouth NH 03801-8200
UID:e.3910.1088447
SEQUENCE:3
DTSTAMP:20260424T214034Z
URL:https://members.seacoastboard.com/education/Details/code-of-ethics-1255851?sourceTypeId=Hub
END:VEVENT
END:VCALENDAR
